BEGIN:VCALENDAR
VERSION:2.0
PRODID:-//wp-events-plugin.com//7.2.3.1//EN
TZID:Europe/Amsterdam
X-WR-TIMEZONE:Europe/Amsterdam
BEGIN:VEVENT
UID:90@vestingmuseum.nl
DTSTART;TZID=Europe/Amsterdam:20250528T103000
DTEND;TZID=Europe/Amsterdam:20250914T170000
DTSTAMP:20250722T115605Z
URL:https://www.vestingmuseum.nl/events/erfgoedfestival-makers-in-gooi-en-
 vecht/
SUMMARY:Erfgoedfestival "Makers in Gooi en Vecht"
DESCRIPTION:De samenwerkende musea en erfgoedpartners in Gooi &amp\; Vech
 t organiseren deze zomer voor de derde keer een Erfgoedfestival. Dit keer 
 staan Makers in Gooi &amp\; Vecht centraal. Tijdens het festival ontdek je
  hoe makers met hun creativiteit\, vindingrijkheid en originaliteit de reg
 io door de eeuwen heen hebben gevormd en nog steeds vormen.\n\nIn het Nede
 rlands Vestingmuseum zetten we hedendaagse makers van kanononderstellen in
  het zonnetje. Dat zijn de mannen die in ons museum ervoor zorgen dat je o
 p het terrein de pracht ziet van de militaire stukken uit onze collectie.\
 n\nZo hebben we een tijd geleden een heel zeldzaam kort kanon (short barre
 l cannon) aangekocht\, waar onze technische ploeg\, na veel onderzoek een 
 onderstel (affuit) voor heeft kunnen maken. De zoektocht en het maakproces
  leggen we uit in een tentoonstelling over dit kanon in kazemat Z.
ATTACH;FMTTYPE=image/jpeg:https://www.vestingmuseum.nl/wp-content/uploads/
 2025/05/keldertotaal.jpg
CATEGORIES:Agenda,Voorpagina
END:VEVENT
BEGIN:VTIMEZONE
TZID:Europe/Amsterdam
X-LIC-LOCATION:Europe/Amsterdam
BEGIN:DAYLIGHT
DTSTART:20250330T030000
TZOFFSETFROM:+0100
TZOFFSETTO:+0200
TZNAME:CEST
END:DAYLIGHT
END:VTIMEZONE
END:VCALENDAR